BEGIN:VCALENDAR
VERSION:2.0
PRODID:-//Scipweb - ECPv6.15.20//NONSGML v1.0//EN
CALSCALE:GREGORIAN
METHOD:PUBLISH
X-WR-CALNAME:Scipweb
X-ORIGINAL-URL:https://scipweb.nl
X-WR-CALDESC:Evenementen voor Scipweb
REFRESH-INTERVAL;VALUE=DURATION:PT1H
X-Robots-Tag:noindex
X-PUBLISHED-TTL:PT1H
BEGIN:VTIMEZONE
TZID:Europe/Amsterdam
BEGIN:DAYLIGHT
TZOFFSETFROM:+0100
TZOFFSETTO:+0200
TZNAME:CEST
DTSTART:20250330T010000
END:DAYLIGHT
BEGIN:STANDARD
TZOFFSETFROM:+0200
TZOFFSETTO:+0100
TZNAME:CET
DTSTART:20251026T010000
END:STANDARD
BEGIN:DAYLIGHT
TZOFFSETFROM:+0100
TZOFFSETTO:+0200
TZNAME:CEST
DTSTART:20260329T010000
END:DAYLIGHT
BEGIN:STANDARD
TZOFFSETFROM:+0200
TZOFFSETTO:+0100
TZNAME:CET
DTSTART:20261025T010000
END:STANDARD
BEGIN:DAYLIGHT
TZOFFSETFROM:+0100
TZOFFSETTO:+0200
TZNAME:CEST
DTSTART:20270328T010000
END:DAYLIGHT
BEGIN:STANDARD
TZOFFSETFROM:+0200
TZOFFSETTO:+0100
TZNAME:CET
DTSTART:20271031T010000
END:STANDARD
END:VTIMEZONE
BEGIN:VEVENT
DTSTART;TZID=Europe/Amsterdam:20260420T093000
DTEND;TZID=Europe/Amsterdam:20260420T150000
DTSTAMP:20260420T220522
CREATED:20260415T114833Z
LAST-MODIFIED:20260415T114833Z
UID:1700-1776677400-1776697200@scipweb.nl
SUMMARY:Autisme Steunpunt Amsterdam
DESCRIPTION:OASA is een ontmoetingsplek voor en door mensen met autisme en hun naasten. \nWe zijn iedere maandag vanaf 9.30 uur tot 15.00 uur geopend \nKeizergracht 252 in Amsterdam voor inloop.
URL:https://scipweb.nl/event/autisme-steunpunt-amsterdam/
LOCATION:SCIP – Keizersgracht\, Keizersgracht 252\, Amsterdam\, Noord-Holland\, 1016 EP\, Netherlands
ATTACH;FMTTYPE=image/jpeg:https://scipweb.nl/wp-content/uploads/2025/07/Oasa.jpg
END:VEVENT
END:VCALENDAR