BEGIN:VCALENDAR
VERSION:2.0
PRODID:-//Scipweb - ECPv6.15.20//NONSGML v1.0//EN
CALSCALE:GREGORIAN
METHOD:PUBLISH
X-WR-CALNAME:Scipweb
X-ORIGINAL-URL:https://scipweb.nl
X-WR-CALDESC:Evenementen voor Scipweb
REFRESH-INTERVAL;VALUE=DURATION:PT1H
X-Robots-Tag:noindex
X-PUBLISHED-TTL:PT1H
BEGIN:VTIMEZONE
TZID:Europe/Amsterdam
BEGIN:DAYLIGHT
TZOFFSETFROM:+0100
TZOFFSETTO:+0200
TZNAME:CEST
DTSTART:20250330T010000
END:DAYLIGHT
BEGIN:STANDARD
TZOFFSETFROM:+0200
TZOFFSETTO:+0100
TZNAME:CET
DTSTART:20251026T010000
END:STANDARD
BEGIN:DAYLIGHT
TZOFFSETFROM:+0100
TZOFFSETTO:+0200
TZNAME:CEST
DTSTART:20260329T010000
END:DAYLIGHT
BEGIN:STANDARD
TZOFFSETFROM:+0200
TZOFFSETTO:+0100
TZNAME:CET
DTSTART:20261025T010000
END:STANDARD
BEGIN:DAYLIGHT
TZOFFSETFROM:+0100
TZOFFSETTO:+0200
TZNAME:CEST
DTSTART:20270328T010000
END:DAYLIGHT
BEGIN:STANDARD
TZOFFSETFROM:+0200
TZOFFSETTO:+0100
TZNAME:CET
DTSTART:20271031T010000
END:STANDARD
END:VTIMEZONE
BEGIN:VEVENT
DTSTART;TZID=Europe/Amsterdam:20260423T150000
DTEND;TZID=Europe/Amsterdam:20260423T170000
DTSTAMP:20260423T130339
CREATED:20260422T114344Z
LAST-MODIFIED:20260422T130114Z
UID:1753-1776956400-1776963600@scipweb.nl
SUMMARY:CLIP Inloopspreekuur ZuidOost
DESCRIPTION:Stadsdeelkantoor Zuidoost\nAnton de Komplein 150\nOp afspraak do. 11.00 – 17.00 uur
URL:https://scipweb.nl/event/clip-inloopspreekuur-west-12/
LOCATION:Stadsdeelkantoor ZuidOost\, Anton de Komplein 150\, Amsterdam\, Netherlands
END:VEVENT
BEGIN:VEVENT
DTSTART;TZID=Europe/Amsterdam:20260423T150000
DTEND;TZID=Europe/Amsterdam:20260423T170000
DTSTAMP:20260423T130339
CREATED:20260422T131944Z
LAST-MODIFIED:20260422T131944Z
UID:1811-1776956400-1776963600@scipweb.nl
SUMMARY:CLIP Inloopspreekuur Centrum
DESCRIPTION:De Waterheuvel\nSarphatistraat 41\nInloopspreekuur do. 15.00 – 17.00 uur
URL:https://scipweb.nl/event/clip-inloopspreekuur-centrum/
LOCATION:De Waterheuvel\, Sarphatistraat 41\, Amsterdam\, Netherlands
END:VEVENT
END:VCALENDAR